BEGIN:VCALENDAR
VERSION:2.0
PRODID:-//Harrison Elementary School - ECPv6.15.20//NONSGML v1.0//EN
CALSCALE:GREGORIAN
METHOD:PUBLISH
X-WR-CALNAME:Harrison Elementary School
X-ORIGINAL-URL:https://harrison.staging.hcde.org
X-WR-CALDESC:Events for Harrison Elementary School
REFRESH-INTERVAL;VALUE=DURATION:PT1H
X-Robots-Tag:noindex
X-PUBLISHED-TTL:PT1H
BEGIN:VTIMEZONE
TZID:America/New_York
BEGIN:DAYLIGHT
TZOFFSETFROM:-0500
TZOFFSETTO:-0400
TZNAME:EDT
DTSTART:20240310T070000
END:DAYLIGHT
BEGIN:STANDARD
TZOFFSETFROM:-0400
TZOFFSETTO:-0500
TZNAME:EST
DTSTART:20241103T060000
END:STANDARD
BEGIN:DAYLIGHT
TZOFFSETFROM:-0500
TZOFFSETTO:-0400
TZNAME:EDT
DTSTART:20250309T070000
END:DAYLIGHT
BEGIN:STANDARD
TZOFFSETFROM:-0400
TZOFFSETTO:-0500
TZNAME:EST
DTSTART:20251102T060000
END:STANDARD
BEGIN:DAYLIGHT
TZOFFSETFROM:-0500
TZOFFSETTO:-0400
TZNAME:EDT
DTSTART:20260308T070000
END:DAYLIGHT
BEGIN:STANDARD
TZOFFSETFROM:-0400
TZOFFSETTO:-0500
TZNAME:EST
DTSTART:20261101T060000
END:STANDARD
BEGIN:DAYLIGHT
TZOFFSETFROM:-0500
TZOFFSETTO:-0400
TZNAME:EDT
DTSTART:20270314T070000
END:DAYLIGHT
BEGIN:STANDARD
TZOFFSETFROM:-0400
TZOFFSETTO:-0500
TZNAME:EST
DTSTART:20271107T060000
END:STANDARD
END:VTIMEZONE
BEGIN:VEVENT
DTSTART;TZID=America/New_York:20260101T000000
DTEND;TZID=America/New_York:20260102T000000
DTSTAMP:20260420T224133
CREATED:20250701T143819Z
LAST-MODIFIED:20250701T143819Z
UID:10000023-1767225600-1767312000@harrison.staging.hcde.org
SUMMARY:New Year's Day
DESCRIPTION:
URL:https://harrison.staging.hcde.org/event/new-years-day/
CATEGORIES:US Holiday
END:VEVENT
BEGIN:VEVENT
DTSTART;TZID=America/New_York:20251231T000000
DTEND;TZID=America/New_York:20260101T000000
DTSTAMP:20260420T224133
CREATED:20250701T143819Z
LAST-MODIFIED:20250701T143819Z
UID:10000024-1767139200-1767225600@harrison.staging.hcde.org
SUMMARY:New Year's Eve
DESCRIPTION:
URL:https://harrison.staging.hcde.org/event/new-years-eve/
CATEGORIES:US Holiday
END:VEVENT
BEGIN:VEVENT
DTSTART;TZID=America/New_York:20251225T000000
DTEND;TZID=America/New_York:20251226T000000
DTSTAMP:20260420T224133
CREATED:20250701T143744Z
LAST-MODIFIED:20250701T143744Z
UID:10000004-1766620800-1766707200@harrison.staging.hcde.org
SUMMARY:Christmas Day
DESCRIPTION:
URL:https://harrison.staging.hcde.org/event/christmas-day/
CATEGORIES:US Holiday
END:VEVENT
BEGIN:VEVENT
DTSTART;TZID=America/New_York:20251224T000000
DTEND;TZID=America/New_York:20251225T000000
DTSTAMP:20260420T224133
CREATED:20250701T143744Z
LAST-MODIFIED:20250701T143744Z
UID:10000005-1766534400-1766620800@harrison.staging.hcde.org
SUMMARY:Christmas Eve
DESCRIPTION:
URL:https://harrison.staging.hcde.org/event/christmas-eve/
CATEGORIES:US Holiday
END:VEVENT
BEGIN:VEVENT
DTSTART;TZID=America/New_York:20251128T000000
DTEND;TZID=America/New_York:20251129T000000
DTSTAMP:20260420T224133
CREATED:20250701T143744Z
LAST-MODIFIED:20250701T143744Z
UID:10000007-1764288000-1764374400@harrison.staging.hcde.org
SUMMARY:Day After Thanksgiving Day
DESCRIPTION:
URL:https://harrison.staging.hcde.org/event/day-after-thanksgiving-day/
CATEGORIES:US Holiday
END:VEVENT
BEGIN:VEVENT
DTSTART;TZID=America/New_York:20251127T000000
DTEND;TZID=America/New_York:20251128T000000
DTSTAMP:20260420T224133
CREATED:20250701T144032Z
LAST-MODIFIED:20250701T144032Z
UID:10000036-1764201600-1764288000@harrison.staging.hcde.org
SUMMARY:Thanksgiving Day
DESCRIPTION:
URL:https://harrison.staging.hcde.org/event/thanksgiving-day/
CATEGORIES:US Holiday
END:VEVENT
BEGIN:VEVENT
DTSTART;TZID=America/New_York:20251126T000000
DTEND;TZID=America/New_York:20251129T000000
DTSTAMP:20260420T224133
CREATED:20250701T144032Z
LAST-MODIFIED:20250701T144032Z
UID:10000035-1764115200-1764374400@harrison.staging.hcde.org
SUMMARY:Thanksgiving Break
DESCRIPTION:
URL:https://harrison.staging.hcde.org/event/thanksgiving-break/
END:VEVENT
BEGIN:VEVENT
DTSTART;TZID=America/New_York:20251104T000000
DTEND;TZID=America/New_York:20251105T000000
DTSTAMP:20260420T224133
CREATED:20250701T143747Z
LAST-MODIFIED:20250701T143747Z
UID:10000009-1762214400-1762300800@harrison.staging.hcde.org
SUMMARY:Election Day
DESCRIPTION:
URL:https://harrison.staging.hcde.org/event/election-day/
CATEGORIES:US Holiday
END:VEVENT
BEGIN:VEVENT
DTSTART;TZID=America/New_York:20251031T000000
DTEND;TZID=America/New_York:20251101T000000
DTSTAMP:20260420T224133
CREATED:20250701T143759Z
LAST-MODIFIED:20250701T143759Z
UID:10000015-1761868800-1761955200@harrison.staging.hcde.org
SUMMARY:Halloween
DESCRIPTION:
URL:https://harrison.staging.hcde.org/event/halloween/
CATEGORIES:US Holiday
END:VEVENT
BEGIN:VEVENT
DTSTART;TZID=America/New_York:20251013T000000
DTEND;TZID=America/New_York:20251018T000000
DTSTAMP:20260420T224133
CREATED:20250701T143748Z
LAST-MODIFIED:20250701T143748Z
UID:10000010-1760313600-1760745600@harrison.staging.hcde.org
SUMMARY:Fall Break
DESCRIPTION:
URL:https://harrison.staging.hcde.org/event/fall-break/
END:VEVENT
BEGIN:VEVENT
DTSTART;TZID=America/New_York:20251013T000000
DTEND;TZID=America/New_York:20251014T000000
DTSTAMP:20260420T224133
CREATED:20250701T143744Z
LAST-MODIFIED:20250701T143744Z
UID:10000006-1760313600-1760400000@harrison.staging.hcde.org
SUMMARY:Columbus Day
DESCRIPTION:
URL:https://harrison.staging.hcde.org/event/columbus-day/
CATEGORIES:US Holiday
END:VEVENT
BEGIN:VEVENT
DTSTART;TZID=America/New_York:20250901T000000
DTEND;TZID=America/New_York:20250902T000000
DTSTAMP:20260420T224133
CREATED:20250701T143800Z
LAST-MODIFIED:20250701T143800Z
UID:10000017-1756684800-1756771200@harrison.staging.hcde.org
SUMMARY:Labor Day
DESCRIPTION:
URL:https://harrison.staging.hcde.org/event/labor-day/
CATEGORIES:US Holiday
END:VEVENT
BEGIN:VEVENT
DTSTART;TZID=America/New_York:20250806T000000
DTEND;TZID=America/New_York:20250807T000000
DTSTAMP:20260420T224133
CREATED:20250701T143748Z
LAST-MODIFIED:20250701T143748Z
UID:10000012-1754438400-1754524800@harrison.staging.hcde.org
SUMMARY:First Day of School for Students
DESCRIPTION:
URL:https://harrison.staging.hcde.org/event/first-day-of-school-for-students/
END:VEVENT
BEGIN:VEVENT
DTSTART;TZID=America/New_York:20250804T000000
DTEND;TZID=America/New_York:20250806T000000
DTSTAMP:20260420T224133
CREATED:20250701T144025Z
LAST-MODIFIED:20250701T144025Z
UID:10000029-1754265600-1754438400@harrison.staging.hcde.org
SUMMARY:School-Based In-Service
DESCRIPTION:
URL:https://harrison.staging.hcde.org/event/school-based-in-service-3/
END:VEVENT
BEGIN:VEVENT
DTSTART;TZID=America/New_York:20250731T000000
DTEND;TZID=America/New_York:20250801T000000
DTSTAMP:20260420T224133
CREATED:20250701T144024Z
LAST-MODIFIED:20250701T144024Z
UID:10000028-1753920000-1754006400@harrison.staging.hcde.org
SUMMARY:School-Based In-Service
DESCRIPTION:
URL:https://harrison.staging.hcde.org/event/school-based-in-service-2/
END:VEVENT
BEGIN:VEVENT
DTSTART;TZID=America/New_York:20250704T000000
DTEND;TZID=America/New_York:20250705T000000
DTSTAMP:20260420T224133
CREATED:20250701T143759Z
LAST-MODIFIED:20250701T143759Z
UID:10000016-1751587200-1751673600@harrison.staging.hcde.org
SUMMARY:Independence Day
DESCRIPTION:
URL:https://harrison.staging.hcde.org/event/independence-day/
CATEGORIES:US Holiday
END:VEVENT
BEGIN:VEVENT
DTSTART;VALUE=DATE:20250113
DTEND;VALUE=DATE:20250114
DTSTAMP:20260420T224133
CREATED:20250109T161205Z
LAST-MODIFIED:20250109T161205Z
UID:10000001-1736726400-1736812799@harrison.staging.hcde.org
SUMMARY:2025 Website Training
DESCRIPTION:Training on the maintenance and updates of the new WordPress school websites.
URL:https://harrison.staging.hcde.org/event/2025-website-training/
LOCATION:HC Schools Website Training\, 123 Byte St\, 10011 Silicon Dr\, TN\, 37421\, United States
CATEGORIES:Schools,Technology
END:VEVENT
BEGIN:VEVENT
DTSTART;VALUE=DATE:20250111
DTEND;VALUE=DATE:20250112
DTSTAMP:20260420T224133
CREATED:20250109T161417Z
LAST-MODIFIED:20250109T161502Z
UID:10000002-1736553600-1736639999@harrison.staging.hcde.org
SUMMARY:Snow Day\, Schools closed
DESCRIPTION:This can be used per school and/or by district
URL:https://harrison.staging.hcde.org/event/snow-day-schools-closed/
CATEGORIES:District,Emergency,Schools
END:VEVENT
END:VCALENDAR